BEGIN:VCALENDAR
VERSION:2.0
PRODID:-//Squarespace Inc/Squarespace 6//v6//EN
BEGIN:VEVENT
UID:5974d5531e5b6c34b273dac8@squarespace.com
DTSTAMP:20170905T013532Z
DTSTART:20170914T120000Z
DTEND:20170914T130000Z
SUMMARY:7L - History (Miss Lowe) Ancient China Diary Entries
END:VEVENT
END:VCALENDAR
