BEGIN:VCALENDAR
VERSION:2.0
PRODID:-//Squarespace Inc/Squarespace 6//v6//EN
BEGIN:VEVENT
UID:5974d58cd2b85704bb522c94@squarespace.com
DTSTAMP:20170905T012958Z
DTSTART:20170911T120000Z
DTEND:20170911T130000Z
SUMMARY:7S - History (Mr Smith) Ancient China Diary Entries
END:VEVENT
END:VCALENDAR
