BEGIN:VCALENDAR
VERSION:2.0
PRODID:-//Squarespace Inc/Squarespace 6//v6//EN
BEGIN:VEVENT
UID:59e6b5f1a8b2b0c3b7f79f12@squarespace.com
DTSTAMP:20171018T020147Z
DTSTART:20171012T230000Z
DTEND:20171013T000000Z
SUMMARY:8H - Math - Mr Hadfield (Math Pathways Unit - Test ) 
END:VEVENT
END:VCALENDAR
