BEGIN:VCALENDAR
VERSION:2.0
PRODID:-//Squarespace Inc/Squarespace 6//v6//EN
BEGIN:VEVENT
UID:59e6b637d55b41fe0e52bb12@squarespace.com
DTSTAMP:20171018T020244Z
DTSTART:20171012T230000Z
DTEND:20171013T000000Z
SUMMARY:8K - Math - Ms Matthew (Math Pathways Unit - Test ) 
END:VEVENT
END:VCALENDAR
