BEGIN:VCALENDAR
VERSION:2.0
PRODID:-//Squarespace Inc/Squarespace 6//v6//EN
BEGIN:VEVENT
UID:59e6b6192aeba5fd99e03169@squarespace.com
DTSTAMP:20171018T020217Z
DTSTART:20171012T230000Z
DTEND:20171013T000000Z
SUMMARY:8M - Math - Mr McKeown (Math Pathways Unit - Test )  
END:VEVENT
END:VCALENDAR
