BEGIN:VCALENDAR
VERSION:2.0
PRODID:-//Squarespace Inc/Squarespace 6//v6//EN
BEGIN:VEVENT
UID:59e6b9c71f318d351355c9ce@squarespace.com
DTSTAMP:20171018T021756Z
DTSTART:20171016T230000Z
DTEND:20171016T230000Z
SUMMARY:8H - CBL - Mr Hadfield (Geography Essay) 
END:VEVENT
END:VCALENDAR
