BEGIN:VCALENDAR
VERSION:2.0
PRODID:-//Squarespace Inc/Squarespace 6//v6//EN
BEGIN:VEVENT
UID:59e6b9fdb078695e0a034821@squarespace.com
DTSTAMP:20171018T021854Z
DTSTART:20171016T230000Z
DTEND:20171016T230000Z
SUMMARY:8K - CBL -Ms Matthew (Geography Essay) 
END:VEVENT
END:VCALENDAR
