BEGIN:VCALENDAR
VERSION:2.0
PRODID:-//Squarespace Inc/Squarespace 6//v6//EN
BEGIN:VEVENT
UID:59e6b9ddc027d82b6601976f@squarespace.com
DTSTAMP:20171018T021823Z
DTSTART:20171016T230000Z
DTEND:20171016T230000Z
SUMMARY:8M - CBL -Mr McKeown (Geography Essay) 
END:VEVENT
END:VCALENDAR
