BEGIN:VCALENDAR
VERSION:2.0
PRODID:-//Squarespace Inc/Squarespace 6//v6//EN
BEGIN:VEVENT
UID:59e6b67e692ebe2b0dbdc7ac@squarespace.com
DTSTAMP:20171018T020358Z
DTSTART:20171018T230000Z
DTEND:20171019T000000Z
SUMMARY:8H - Science - Mrs Stewart (Science - Exam)
END:VEVENT
END:VCALENDAR
