BEGIN:VCALENDAR
VERSION:2.0
PRODID:-//Squarespace Inc/Squarespace 6//v6//EN
BEGIN:VEVENT
UID:59e6b65b80bd5e0c4680cb91@squarespace.com
DTSTAMP:20171018T020328Z
DTSTART:20171018T230000Z
DTEND:20171019T000000Z
SUMMARY:8M - Science - Ms Matthew ( Science  - Exam) 
END:VEVENT
END:VCALENDAR
