BEGIN:VCALENDAR
VERSION:2.0
PRODID:-//Squarespace Inc/Squarespace 6//v6//EN
BEGIN:VEVENT
UID:59e6b8d6e45a7c7ff0bb0abf@squarespace.com
DTSTAMP:20171018T021355Z
DTSTART:20171023T230000Z
DTEND:20171023T230000Z
SUMMARY:8K - Drama (Melodrama Performance)
END:VEVENT
END:VCALENDAR
