BEGIN:VCALENDAR
VERSION:2.0
PRODID:-//Squarespace Inc/Squarespace 6//v6//EN
BEGIN:VEVENT
UID:59e6bacaaeb625319757ddcc@squarespace.com
DTSTAMP:20171018T022217Z
DTSTART:20171024T230000Z
DTEND:20171024T230000Z
SUMMARY:8H - CBL -Mr Hadfield (English Identity portfolio) 
END:VEVENT
END:VCALENDAR
