BEGIN:VCALENDAR
VERSION:2.0
PRODID:-//Squarespace Inc/Squarespace 6//v6//EN
BEGIN:VEVENT
UID:59e6bb11b1ffb6180a35824b@squarespace.com
DTSTAMP:20171018T022327Z
DTSTART:20171024T230000Z
DTEND:20171024T230000Z
SUMMARY:8K - CBL -Ms Matthew (English Identity portfolio) 
END:VEVENT
END:VCALENDAR
