BEGIN:VCALENDAR
VERSION:2.0
PRODID:-//Squarespace Inc/Squarespace 6//v6//EN
BEGIN:VEVENT
UID:59e6b698cf81e09a241d0ce0@squarespace.com
DTSTAMP:20171018T020428Z
DTSTART:20171026T230000Z
DTEND:20171027T000000Z
SUMMARY:8H - Math - Mr Hadfield (Math Pathways Unit - Test )  
END:VEVENT
END:VCALENDAR
