BEGIN:VCALENDAR
VERSION:2.0
PRODID:-//Squarespace Inc/Squarespace 6//v6//EN
BEGIN:VEVENT
UID:59e6b6d98a02c7265b5d97cb@squarespace.com
DTSTAMP:20171018T020525Z
DTSTART:20171026T230000Z
DTEND:20171027T000000Z
SUMMARY:8K - Math - Ms Matthew (Math Pathways Unit - Test ) 
END:VEVENT
END:VCALENDAR
