BEGIN:VCALENDAR
VERSION:2.0
PRODID:-//Squarespace Inc/Squarespace 6//v6//EN
BEGIN:VEVENT
UID:59e6b952dc2b4afd61b50be2@squarespace.com
DTSTAMP:20171018T021557Z
DTSTART:20171109T230000Z
DTEND:20171110T000000Z
SUMMARY:8H - Math - Mr Hadfield (Math Pathways Unit - Test )  
END:VEVENT
END:VCALENDAR
