BEGIN:VCALENDAR
VERSION:2.0
PRODID:-//Squarespace Inc/Squarespace 6//v6//EN
BEGIN:VEVENT
UID:59e6b7b2fe54ef1cd45eb99d@squarespace.com
DTSTAMP:20171018T020908Z
DTSTART:20171109T230000Z
DTEND:20171109T230000Z
SUMMARY:8K - Film - Mr Jeffs (Informational Video)
END:VEVENT
END:VCALENDAR
