BEGIN:VCALENDAR
VERSION:2.0
PRODID:-//Squarespace Inc/Squarespace 6//v6//EN
BEGIN:VEVENT
UID:59e6b990f9a61e35b8ca3876@squarespace.com
DTSTAMP:20171018T021707Z
DTSTART:20171109T230000Z
DTEND:20171110T000000Z
SUMMARY:8K - Math - Ms Matthew (Math Pathways Unit - Test ) 
END:VEVENT
END:VCALENDAR
