BEGIN:VCALENDAR
VERSION:2.0
PRODID:-//Squarespace Inc/Squarespace 6//v6//EN
BEGIN:VEVENT
UID:59e6b96ea8b2b0c3b7f7c843@squarespace.com
DTSTAMP:20171018T021637Z
DTSTART:20171109T230000Z
DTEND:20171110T000000Z
SUMMARY:8M - Math - Mr McKeown (Math Pathways Unit - Test )  
END:VEVENT
END:VCALENDAR
