BEGIN:VCALENDAR
VERSION:2.0
PRODID:-//Squarespace Inc/Squarespace 6//v6//EN
BEGIN:VEVENT
UID:59e6b7d1bff20023c188cfa0@squarespace.com
DTSTAMP:20171018T020939Z
DTSTART:20171120T230000Z
DTEND:20171120T230000Z
SUMMARY:8H - Science - Mrs Stewart (Solar Cooker Prac)
END:VEVENT
END:VCALENDAR
