BEGIN:VCALENDAR
VERSION:2.0
PRODID:-//Squarespace Inc/Squarespace 6//v6//EN
BEGIN:VEVENT
UID:59e6ba2980bd5e0c4680f778@squarespace.com
DTSTAMP:20171018T021935Z
DTSTART:20171120T230000Z
DTEND:20171120T230000Z
SUMMARY:8M - Science - Ms Matthew ( Solar Cooker Prac) 
END:VEVENT
END:VCALENDAR
