BEGIN:VCALENDAR
VERSION:2.0
PRODID:-//Squarespace Inc/Squarespace 6//v6//EN
BEGIN:VEVENT
UID:59e6b846b7411ca365306e93@squarespace.com
DTSTAMP:20171018T021133Z
DTSTART:20171121T230000Z
DTEND:20171121T230000Z
SUMMARY:8H - CBL -Mr Hadfield (Band launch) 
END:VEVENT
END:VCALENDAR
