BEGIN:VCALENDAR
VERSION:2.0
PRODID:-//Squarespace Inc/Squarespace 6//v6//EN
BEGIN:VEVENT
UID:59e6b826bce17651185442bd@squarespace.com
DTSTAMP:20171018T021104Z
DTSTART:20171121T230000Z
DTEND:20171121T230000Z
SUMMARY:8H HPE - Mrs L Harrold (Research Assignment: Cultural Understanding
 s)
END:VEVENT
END:VCALENDAR
