BEGIN:VCALENDAR
VERSION:2.0
PRODID:-//Squarespace Inc/Squarespace 6//v6//EN
BEGIN:VEVENT
UID:59e6b882b1ffb6180a356457@squarespace.com
DTSTAMP:20171018T021241Z
DTSTART:20171121T230000Z
DTEND:20171121T230000Z
SUMMARY:8K - CBL - Ms Matthew (Band launch)  
END:VEVENT
END:VCALENDAR
