BEGIN:VCALENDAR
VERSION:2.0
PRODID:-//Squarespace Inc/Squarespace 6//v6//EN
BEGIN:VEVENT
UID:59e6b8630100271a676e45cb@squarespace.com
DTSTAMP:20171018T021205Z
DTSTART:20171121T230000Z
DTEND:20171121T230000Z
SUMMARY:8M - CBL - Mr McKeown (Band launch)  
END:VEVENT
END:VCALENDAR
