BEGIN:VCALENDAR
VERSION:2.0
PRODID:-//Squarespace Inc/Squarespace 6//v6//EN
BEGIN:VEVENT
UID:59e6b7ede9bfdf64c735f26a@squarespace.com
DTSTAMP:20171018T021033Z
DTSTART:20171121T230000Z
DTEND:20171121T230000Z
SUMMARY:8M - Drama Mrs Gault (Melodrama Performance)
END:VEVENT
END:VCALENDAR
