BEGIN:VCALENDAR
VERSION:2.0
PRODID:-//Squarespace Inc/Squarespace 6//v6//EN
BEGIN:VEVENT
UID:59e6ba458c56a815a1cfb8f3@squarespace.com
DTSTAMP:20171018T022128Z
DTSTART:20171123T230000Z
DTEND:20171124T000000Z
SUMMARY:8H - Math - Mr Hadfield (Math Pathways Unit - Test )  
END:VEVENT
END:VCALENDAR
