BEGIN:VCALENDAR
VERSION:2.0
PRODID:-//Squarespace Inc/Squarespace 6//v6//EN
BEGIN:VEVENT
UID:59e6ba7c0100271a676e5f9b@squarespace.com
DTSTAMP:20171018T022102Z
DTSTART:20171123T230000Z
DTEND:20171124T000000Z
SUMMARY:8K - Math - Ms Matthew (Math Pathways Unit - Test ) 
END:VEVENT
END:VCALENDAR
