BEGIN:VCALENDAR
VERSION:2.0
PRODID:-//Squarespace Inc/Squarespace 6//v6//EN
BEGIN:VEVENT
UID:59e6b8f18a02c7265b5dafcd@squarespace.com
DTSTAMP:20171018T021459Z
DTSTART:20171123T230000Z
DTEND:20171123T230000Z
SUMMARY:8M - Drama - Ms Gault (Villain performance)
END:VEVENT
END:VCALENDAR
