BEGIN:VCALENDAR
VERSION:2.0
PRODID:-//Squarespace Inc/Squarespace 6//v6//EN
BEGIN:VEVENT
UID:59e6ba619f07f52e7c326669@squarespace.com
DTSTAMP:20171018T022147Z
DTSTART:20171123T230000Z
DTEND:20171124T000000Z
SUMMARY:8M - Math - Mr McKeown (Math Pathways Unit - Test )  
END:VEVENT
END:VCALENDAR
