BEGIN:VCALENDAR
VERSION:2.0
PRODID:-//Squarespace Inc/Squarespace 6//v6//EN
BEGIN:VEVENT
UID:59e6b92dcd39c30b9886f6cd@squarespace.com
DTSTAMP:20171018T021531Z
DTSTART:20171126T230000Z
DTEND:20171126T230000Z
SUMMARY:8K - Drama - Ms Gault (Villain performance)
END:VEVENT
END:VCALENDAR
