BEGIN:VCALENDAR
VERSION:2.0
PRODID:-//Squarespace Inc/Squarespace 6//v6//EN
BEGIN:VEVENT
UID:59e6b6f76957da312c3e7710@squarespace.com
DTSTAMP:20171018T020604Z
DTSTART:20171105T230000Z
DTEND:20171105T230000Z
SUMMARY:8H - Film - Mr Jeffs (Informational Video)
END:VEVENT
END:VCALENDAR
