BEGIN:VCALENDAR
VERSION:2.0
PRODID:-//Squarespace Inc/Squarespace 6//v6//EN
BEGIN:VEVENT
UID:59e6b71b0100271a676e375c@squarespace.com
DTSTAMP:20171018T020638Z
DTSTART:20171106T230000Z
DTEND:20171106T230000Z
SUMMARY:8M - Film - Mr Jeffs (Informational Video)
END:VEVENT
END:VCALENDAR
