BEGIN:VCALENDAR
VERSION:2.0
PRODID:-//Squarespace Inc/Squarespace 6//v6//EN
BEGIN:VEVENT
UID:59e6b73fc027d82b66017917@squarespace.com
DTSTAMP:20171018T020730Z
DTSTART:20171108T230000Z
DTEND:20171108T230000Z
SUMMARY:8H - CBL -Mr Hadfield (English Lyric Analysis) 
END:VEVENT
END:VCALENDAR
