BEGIN:VCALENDAR
VERSION:2.0
PRODID:-//Squarespace Inc/Squarespace 6//v6//EN
BEGIN:VEVENT
UID:59e6b770fe54ef1cd45eb667@squarespace.com
DTSTAMP:20171018T020802Z
DTSTART:20171108T230000Z
DTEND:20171108T230000Z
SUMMARY:8M - CBL -Mr McKeown (English Lyric Analysis) 
END:VEVENT
END:VCALENDAR
