BEGIN:VCALENDAR
VERSION:2.0
PRODID:-//Squarespace Inc/Squarespace 6//v6//EN
BEGIN:VEVENT
UID:5975162046c3c431eb5fd954@squarespace.com
DTSTAMP:20170726T230952Z
DTSTART:20170828T120000Z
DTEND:20170828T130000Z
SUMMARY:8K - Design & Tech (Mr Purnell) Woodwork Project
END:VEVENT
END:VCALENDAR
