BEGIN:VCALENDAR
VERSION:2.0
PRODID:-//Squarespace Inc/Squarespace 6//v6//EN
BEGIN:VEVENT
UID:597515e41b631b9a7693d6a6@squarespace.com
DTSTAMP:20170726T231039Z
DTSTART:20170828T120000Z
DTEND:20170828T130000Z
SUMMARY:8H - Design & Tech (Mr Purnell) Woodwork Project
END:VEVENT
END:VCALENDAR
