BEGIN:VCALENDAR
VERSION:2.0
PRODID:-//Squarespace Inc/Squarespace 6//v6//EN
BEGIN:VEVENT
UID:5975190186e6c00ea10d84ee@squarespace.com
DTSTAMP:20170726T231219Z
DTSTART:20170829T120000Z
DTEND:20170829T130000Z
SUMMARY:8H - Science (Mrs Stewart) 3D Digestion Model
END:VEVENT
END:VCALENDAR
