BEGIN:VCALENDAR
VERSION:2.0
PRODID:-//Squarespace Inc/Squarespace 6//v6//EN
BEGIN:VEVENT
UID:597518dd17bffc066d152707@squarespace.com
DTSTAMP:20170726T231143Z
DTSTART:20170829T120000Z
DTEND:20170829T130000Z
SUMMARY:8K - Science (Mr Smith) 3D Digestion Model
END:VEVENT
END:VCALENDAR
