BEGIN:VCALENDAR
VERSION:2.0
PRODID:-//Squarespace Inc/Squarespace 6//v6//EN
BEGIN:VEVENT
UID:597516398419c204deeac2ce@squarespace.com
DTSTAMP:20170726T231112Z
DTSTART:20170829T120000Z
DTEND:20170829T130000Z
SUMMARY:8M - Science (Miss Matthew) 3D Digestion Model
END:VEVENT
END:VCALENDAR
