BEGIN:VCALENDAR
VERSION:2.0
PRODID:-//Squarespace Inc/Squarespace 6//v6//EN
BEGIN:VEVENT
UID:597515c4bebafb04b95d5df6@squarespace.com
DTSTAMP:20170726T230856Z
DTSTART:20170804T120000Z
DTEND:20170804T130000Z
SUMMARY:8M - Mathematics (Mr McKeown) Measurement Modules
END:VEVENT
END:VCALENDAR
