BEGIN:VCALENDAR
VERSION:2.0
PRODID:-//Squarespace Inc/Squarespace 6//v6//EN
BEGIN:VEVENT
UID:597515afa803bb32e7a3edc6@squarespace.com
DTSTAMP:20170726T230800Z
DTSTART:20170804T120000Z
DTEND:20170804T130000Z
SUMMARY:8K - Mathematics (Miss Matthews) Measurement Modules
END:VEVENT
END:VCALENDAR
