BEGIN:VCALENDAR
VERSION:2.0
PRODID:-//Squarespace Inc/Squarespace 6//v6//EN
BEGIN:VEVENT
UID:59751572e58c628c6137e71e@squarespace.com
DTSTAMP:20170726T230828Z
DTSTART:20170804T120000Z
DTEND:20170804T130000Z
SUMMARY:8H - Mathematics (Mr Hadfield) Measurement Modules
END:VEVENT
END:VCALENDAR
