BEGIN:VCALENDAR
VERSION:2.0
PRODID:-//Squarespace Inc/Squarespace 6//v6//EN
BEGIN:VEVENT
UID:59751832a803bb32e7a409ad@squarespace.com
DTSTAMP:20170727T040533Z
DTSTART:20170911T120000Z
DTEND:20170911T130000Z
SUMMARY:8H - Film (Mr Jeffs) Design Task - Opinion Piece
END:VEVENT
END:VCALENDAR
