BEGIN:VCALENDAR
VERSION:2.0
PRODID:-//Squarespace Inc/Squarespace 6//v6//EN
BEGIN:VEVENT
UID:59751864f9a61e08c67e9da9@squarespace.com
DTSTAMP:20170727T040626Z
DTSTART:20170912T120000Z
DTEND:20170912T130000Z
SUMMARY:8M - Film (Mr Jeffs) Design Task - Opinion Piece
END:VEVENT
END:VCALENDAR
