BEGIN:VCALENDAR
VERSION:2.0
PRODID:-//Squarespace Inc/Squarespace 6//v6//EN
BEGIN:VEVENT
UID:5975188d414fb5f8aba4506b@squarespace.com
DTSTAMP:20170727T040647Z
DTSTART:20170915T120000Z
DTEND:20170915T130000Z
SUMMARY:8K - Film (Mr Jeffs) Design Task - Opinion Piece
END:VEVENT
END:VCALENDAR
