BEGIN:VCALENDAR
VERSION:2.0
PRODID:-//Squarespace Inc/Squarespace 6//v6//EN
BEGIN:VEVENT
UID:5975167adb29d6a05c5ec46d@squarespace.com
DTSTAMP:20170726T231543Z
DTSTART:20170906T120000Z
DTEND:20170906T130000Z
SUMMARY:8M - Drama (Ms Gault) Improvisation Performance
END:VEVENT
END:VCALENDAR
