BEGIN:VCALENDAR
VERSION:2.0
PRODID:-//Squarespace Inc/Squarespace 6//v6//EN
BEGIN:VEVENT
UID:597516ed440243f8d196f6d1@squarespace.com
DTSTAMP:20170726T232057Z
DTSTART:20170907T120000Z
DTEND:20170907T130000Z
SUMMARY:8M - Mathematics (Mr McKeown) Measurement CBL Task
END:VEVENT
END:VCALENDAR
