BEGIN:VCALENDAR
VERSION:2.0
PRODID:-//Squarespace Inc/Squarespace 6//v6//EN
BEGIN:VEVENT
UID:597516a417bffc066d150e2c@squarespace.com
DTSTAMP:20170726T232019Z
DTSTART:20170907T120000Z
DTEND:20170907T130000Z
SUMMARY:8H - Mathematics (Mr Hadfield) Measurement CBL Task
END:VEVENT
END:VCALENDAR
