BEGIN:VCALENDAR
VERSION:2.0
PRODID:-//Squarespace Inc/Squarespace 6//v6//EN
BEGIN:VEVENT
UID:597517339de4bb2cc361fd54@squarespace.com
DTSTAMP:20170726T231942Z
DTSTART:20170907T120000Z
DTEND:20170907T130000Z
SUMMARY:8K - Mathematics (Miss Matthews) Measurement CBL Task
END:VEVENT
END:VCALENDAR
